BEGIN:VCALENDAR
VERSION:2.0
PRODID:-//Red Lotus Temple of Tantra Canada | Sensual &amp; Tantric Massage | Vancouver, Calgary, Edmonton, Victoria, Toronto | The Art of Sacred Sexuality - ECPv6.15.20//NONSGML v1.0//EN
CALSCALE:GREGORIAN
METHOD:PUBLISH
X-ORIGINAL-URL:https://www.redlotustantra.net
X-WR-CALDESC:Events for Red Lotus Temple of Tantra Canada | Sensual &amp; Tantric Massage | Vancouver, Calgary, Edmonton, Victoria, Toronto | The Art of Sacred Sexuality
REFRESH-INTERVAL;VALUE=DURATION:PT1H
X-Robots-Tag:noindex
X-PUBLISHED-TTL:PT1H
BEGIN:VTIMEZONE
TZID:America/Vancouver
BEGIN:DAYLIGHT
TZOFFSETFROM:-0800
TZOFFSETTO:-0700
TZNAME:PDT
DTSTART:20130310T100000
END:DAYLIGHT
BEGIN:STANDARD
TZOFFSETFROM:-0700
TZOFFSETTO:-0800
TZNAME:PST
DTSTART:20131103T090000
END:STANDARD
BEGIN:DAYLIGHT
TZOFFSETFROM:-0800
TZOFFSETTO:-0700
TZNAME:PDT
DTSTART:20140309T100000
END:DAYLIGHT
BEGIN:STANDARD
TZOFFSETFROM:-0700
TZOFFSETTO:-0800
TZNAME:PST
DTSTART:20141102T090000
END:STANDARD
BEGIN:DAYLIGHT
TZOFFSETFROM:-0800
TZOFFSETTO:-0700
TZNAME:PDT
DTSTART:20150308T100000
END:DAYLIGHT
BEGIN:STANDARD
TZOFFSETFROM:-0700
TZOFFSETTO:-0800
TZNAME:PST
DTSTART:20151101T090000
END:STANDARD
END:VTIMEZONE
BEGIN:VEVENT
DTSTART;TZID=America/Vancouver:20140613T180000
DTEND;TZID=America/Vancouver:20140615T180000
DTSTAMP:20260423T160922
CREATED:20130925T212653Z
LAST-MODIFIED:20150516T160721Z
UID:1179-1402682400-1402855200@www.redlotustantra.net
SUMMARY:Tantra Practitioner Training - Toronto
DESCRIPTION:If you ever wanted to enter the world of divine spiritual bliss and become a sacred healer and teacher of ancient sexual and spiritual secrets then Red Lotus Tantra is for you. \nThis highly charged\, spiritual\, energetic domain is for wonderful men and women who feel that sacred and spiritual sexuality is their calling. \nBecome Tantra Practitioner \nTantra Practitioner Training \nTantra Practitioner Application \n 
URL:https://www.redlotustantra.net/calendar/tantra-practitioner-training-toronto/
LOCATION:Central Downtown Location\, Ontario\, Canada
CATEGORIES:Tantra Practitioner Training,Toronto
ATTACH;FMTTYPE=image/jpeg:https://www.redlotustantra.net/wp-content/uploads/2013/06/tantra-massage-canada.jpg
ORGANIZER;CN="Red Lotus":MAILTO:redlotustantra@gmail.com
END:VEVENT
END:VCALENDAR