BEGIN:VCALENDAR
VERSION:2.0
PRODID:-//Red Lotus Temple of Tantra Canada | Sensual &amp; Tantric Massage | Vancouver, Calgary, Edmonton, Victoria, Toronto | The Art of Sacred Sexuality - ECPv6.15.20//NONSGML v1.0//EN
CALSCALE:GREGORIAN
METHOD:PUBLISH
X-WR-CALNAME:Red Lotus Temple of Tantra Canada | Sensual &amp; Tantric Massage | Vancouver, Calgary, Edmonton, Victoria, Toronto | The Art of Sacred Sexuality
X-ORIGINAL-URL:https://www.redlotustantra.net
X-WR-CALDESC:Events for Red Lotus Temple of Tantra Canada | Sensual &amp; Tantric Massage | Vancouver, Calgary, Edmonton, Victoria, Toronto | The Art of Sacred Sexuality
REFRESH-INTERVAL;VALUE=DURATION:PT1H
X-Robots-Tag:noindex
X-PUBLISHED-TTL:PT1H
BEGIN:VTIMEZONE
TZID:America/Vancouver
BEGIN:DAYLIGHT
TZOFFSETFROM:-0800
TZOFFSETTO:-0700
TZNAME:PDT
DTSTART:20130310T100000
END:DAYLIGHT
BEGIN:STANDARD
TZOFFSETFROM:-0700
TZOFFSETTO:-0800
TZNAME:PST
DTSTART:20131103T090000
END:STANDARD
BEGIN:DAYLIGHT
TZOFFSETFROM:-0800
TZOFFSETTO:-0700
TZNAME:PDT
DTSTART:20140309T100000
END:DAYLIGHT
BEGIN:STANDARD
TZOFFSETFROM:-0700
TZOFFSETTO:-0800
TZNAME:PST
DTSTART:20141102T090000
END:STANDARD
BEGIN:DAYLIGHT
TZOFFSETFROM:-0800
TZOFFSETTO:-0700
TZNAME:PDT
DTSTART:20150308T100000
END:DAYLIGHT
BEGIN:STANDARD
TZOFFSETFROM:-0700
TZOFFSETTO:-0800
TZNAME:PST
DTSTART:20151101T090000
END:STANDARD
END:VTIMEZONE
BEGIN:VEVENT
DTSTART;TZID=America/Vancouver:20141121T080000
DTEND;TZID=America/Vancouver:20141123T170000
DTSTAMP:20260423T171943
CREATED:20140916T140748Z
LAST-MODIFIED:20140916T140748Z
UID:1839-1416556800-1416762000@www.redlotustantra.net
SUMMARY:Tantra Practitioner Training - Edmonton
DESCRIPTION:If you ever wanted to enter the world of divine spiritual bliss and become a sacred healer and teacher of ancient sexual and spiritual secrets then Red Lotus Tantra is for you. This highly charged\, spiritual\, energetic domain is for wonderful men and women who feel that sacred and spiritual sexuality is their calling. \nBecome Tantra Practitioner \nTantra Practitioner Training \nTantra Practitioner Application \n 
URL:https://www.redlotustantra.net/calendar/tantra-practitioner-training-edmonton/
LOCATION:Edmonton\, Alberta\, Canada
CATEGORIES:Edmonton
ATTACH;FMTTYPE=image/jpeg:https://www.redlotustantra.net/wp-content/uploads/2013/06/tantra-massage-canada.jpg
ORGANIZER;CN="Red Lotus":MAILTO:redlotustantra@gmail.com
END:VEVENT
END:VCALENDAR